BEGIN:VCALENDAR
VERSION:2.0
PRODID:-//Atlantis London//Events//EN
CALSCALE:GREGORIAN
METHOD:PUBLISH
BEGIN:VEVENT
UID:seed0025-1781636400@ukdemo.atlantis.show
DTSTAMP:20260420T122540Z
DTSTART:20260616T190000Z
DTEND:20260616T220000Z
SUMMARY:Özcan Deniz — London
DESCRIPTION:Singer-songwriter\, actor and film-maker — a defining multi-hyphenate voice of 1990s-2010s Turkish pop.
LOCATION:Royal Albert Hall\, London\, United Kingdom
URL:https://ukdemo.atlantis.show/event/ozcan-deniz-london-jun-16
STATUS:CONFIRMED
END:VEVENT
END:VCALENDAR
