BEGIN:VCALENDAR
VERSION:2.0
PRODID:-//Atlantis London//Events//EN
CALSCALE:GREGORIAN
METHOD:PUBLISH
BEGIN:VEVENT
UID:seed0027-1793908800@ukdemo.atlantis.show
DTSTAMP:20260420T135151Z
DTSTART:20261105T200000Z
DTEND:20261105T230000Z
SUMMARY:Goran Bregović — Stockholm
DESCRIPTION:Balkan composer — from Bijelo Dugme rock to Kusturica scores and the Wedding & Funeral Orchestra.
LOCATION:Konserthuset Stockholm\, Stockholm\, Sweden
URL:https://ukdemo.atlantis.show/event/goran-bregovic-stockholm-nov-05
STATUS:CONFIRMED
END:VEVENT
END:VCALENDAR
