BEGIN:VCALENDAR
VERSION:2.0
PRODID:-//Atlantis London//Events//EN
CALSCALE:GREGORIAN
METHOD:PUBLISH
BEGIN:VEVENT
UID:seed0026-1793822400@ukdemo.atlantis.show
DTSTAMP:20260420T134454Z
DTSTART:20261104T200000Z
DTEND:20261104T230000Z
SUMMARY:Goran Bregović — Helsinki
DESCRIPTION:Balkan composer — from Bijelo Dugme rock to Kusturica scores and the Wedding & Funeral Orchestra.
LOCATION:Finlandia Hall\, Helsinki\, Finland
URL:https://ukdemo.atlantis.show/event/goran-bregovic-helsinki
STATUS:CONFIRMED
END:VEVENT
END:VCALENDAR
