BEGIN:VCALENDAR
VERSION:2.0
PRODID:-//Atlantis London//Events//EN
CALSCALE:GREGORIAN
METHOD:PUBLISH
BEGIN:VEVENT
UID:seed0029-1794081600@ukdemo.atlantis.show
DTSTAMP:20260420T134325Z
DTSTART:20261107T200000Z
DTEND:20261107T230000Z
SUMMARY:Goran Bregović — Dublin
DESCRIPTION:Balkan composer — from Bijelo Dugme rock to Kusturica scores and the Wedding & Funeral Orchestra.
LOCATION:National Concert Hall\, Dublin\, Ireland
URL:https://ukdemo.atlantis.show/event/goran-bregovic-dublin-nov-07
STATUS:CONFIRMED
END:VEVENT
END:VCALENDAR
