BEGIN:VCALENDAR
VERSION:2.0
PRODID:-//Atlantis London//Events//EN
CALSCALE:GREGORIAN
METHOD:PUBLISH
BEGIN:VEVENT
UID:seed0001-1792177200@ukdemo.atlantis.show
DTSTAMP:20260420T151713Z
DTSTART:20261016T190000Z
DTEND:20261016T220000Z
SUMMARY:Chris Norman — London
DESCRIPTION:The unmistakable voice of Smokie — five decades of British soft-rock and pop classics.
LOCATION:Royal Albert Hall\, London\, United Kingdom
URL:https://ukdemo.atlantis.show/event/chris-norman-london-oct-16
STATUS:CONFIRMED
END:VEVENT
END:VCALENDAR
