BEGIN:VCALENDAR
VERSION:2.0
PRODID:-//Atlantis London//Events//EN
CALSCALE:GREGORIAN
METHOD:PUBLISH
BEGIN:VEVENT
UID:seed0013-1777057200@ukdemo.atlantis.show
DTSTAMP:20260420T122232Z
DTSTART:20260424T190000Z
DTEND:20260424T220000Z
SUMMARY:Café Del Mundo — Manchester
DESCRIPTION:Virtuoso flamenco-guitar duo Jan Pascal & Alexander Kilian\, fusing flamenco\, tango\, jazz and classical.
LOCATION:Bridgewater Hall\, Manchester\, United Kingdom
URL:https://ukdemo.atlantis.show/event/cafe-del-mundo-manchester-apr-24
STATUS:CONFIRMED
END:VEVENT
END:VCALENDAR
