BEGIN:VCALENDAR
VERSION:2.0
PRODID:-//Atlantis London//Events//EN
CALSCALE:GREGORIAN
METHOD:PUBLISH
BEGIN:VEVENT
UID:seed0010-1776884400@ukdemo.atlantis.show
DTSTAMP:20260420T121905Z
DTSTART:20260422T190000Z
DTEND:20260422T220000Z
SUMMARY:Café Del Mundo — London
DESCRIPTION:Virtuoso flamenco-guitar duo Jan Pascal & Alexander Kilian\, fusing flamenco\, tango\, jazz and classical.
LOCATION:Barbican Centre\, London\, United Kingdom
URL:https://ukdemo.atlantis.show/event/cafe-del-mundo-london-apr-22
STATUS:CONFIRMED
END:VEVENT
END:VCALENDAR
