BEGIN:VCALENDAR
VERSION:2.0
PRODID:-//Atlantis London//Events//EN
CALSCALE:GREGORIAN
METHOD:PUBLISH
BEGIN:VEVENT
UID:seed0011-1776970800@ukdemo.atlantis.show
DTSTAMP:20260420T121715Z
DTSTART:20260423T190000Z
DTEND:20260423T220000Z
SUMMARY:Café Del Mundo — Liverpool
DESCRIPTION:Virtuoso flamenco-guitar duo Jan Pascal & Alexander Kilian\, fusing flamenco\, tango\, jazz and classical.
LOCATION:Liverpool Philharmonic Hall\, Liverpool\, United Kingdom
URL:https://ukdemo.atlantis.show/event/cafe-del-mundo-liverpool-apr-23
STATUS:CONFIRMED
END:VEVENT
END:VCALENDAR
