BEGIN:VCALENDAR
VERSION:2.0
PRODID:-//Atlantis London//Events//EN
CALSCALE:GREGORIAN
METHOD:PUBLISH
BEGIN:VEVENT
UID:seed0014-1777143600@ukdemo.atlantis.show
DTSTAMP:20260420T122032Z
DTSTART:20260425T190000Z
DTEND:20260425T220000Z
SUMMARY:Café Del Mundo — Glasgow
DESCRIPTION:Virtuoso flamenco-guitar duo Jan Pascal & Alexander Kilian\, fusing flamenco\, tango\, jazz and classical.
LOCATION:Glasgow Royal Concert Hall\, Glasgow\, United Kingdom
URL:https://ukdemo.atlantis.show/event/cafe-del-mundo-glasgow-apr-25
STATUS:CONFIRMED
END:VEVENT
END:VCALENDAR
